BEGIN:VCALENDAR
VERSION:2.0
PRODID:-//plantnebraska.org//NONSGML kigkonsult.se iCalcreator 2.30.10//
CALSCALE:GREGORIAN
METHOD:PUBLISH
UID:31904521-5b9c-418b-8146-1020fd6ef450
X-WR-CALDESC:The 2023 NSA Awards ceremony will take place on Friday\, Novem
 ber 3\, from 2-4 p.m.\, at First Plymouth Congregational Church (2000 D St
 .\, Lincoln). Check back for more information about this year's award reci
 pients and details about the upcoming event.
X-WR-RELCALID:c757673b66df34da78d297fcbca19596
X-WR-TIMEZONE:America/Chicago
BEGIN:VTIMEZONE
TZID:America/Chicago
BEGIN:STANDARD
TZNAME:CST
DTSTART:20221106T020000
TZOFFSETFROM:-0500
TZOFFSETTO:-0600
RDATE:20231105T020000
RDATE:20241103T020000
END:STANDARD
BEGIN:DAYLIGHT
TZNAME:CDT
DTSTART:20230312T020000
TZOFFSETFROM:-0600
TZOFFSETTO:-0500
RDATE:20240310T020000
RDATE:20250309T020000
END:DAYLIGHT
END:VTIMEZONE
BEGIN:VEVENT
UID:74ddc2b8-86a0-47dc-b786-fdc364e00fcb
DTSTAMP:20260422T090340Z
DESCRIPTION:The 2023 NSA Awards ceremony will take place on Friday\, Novemb
 er 3\, from 2-4 p.m.\, at First Plymouth Congregational Church (2000 D St.
 \, Lincoln). Check back for more information about this year's award recip
 ients and details about the upcoming event.
DTSTART;TZID=America/Chicago:20231103T140000
DTEND;TZID=America/Chicago:20231103T160000
LOCATION:First Plymouth Congregational Church \, 2000 D St.\, Lincoln\, NE 
 68502 US
SUMMARY:NSA Awards
END:VEVENT
END:VCALENDAR
