BEGIN:VCALENDAR
VERSION:2.0
PRODID:-//plantnebraska.org//NONSGML kigkonsult.se iCalcreator 2.30.10//
CALSCALE:GREGORIAN
METHOD:PUBLISH
UID:f984a3d9-18d0-4d3c-8eb2-bbc36721d3a8
X-WR-CALDESC:All Nebraska Statewide Arboretum members are invited to shop f
 or plants at this special members only plant sale. And don't forget to use
  your 15% off members discount!
X-WR-RELCALID:c21db3b9241432704d3fa94ff3e4e648
X-WR-TIMEZONE:America/Chicago
BEGIN:VTIMEZONE
TZID:America/Chicago
BEGIN:STANDARD
TZNAME:CST
DTSTART:20221106T020000
TZOFFSETFROM:-0500
TZOFFSETTO:-0600
RDATE:20231105T020000
END:STANDARD
BEGIN:DAYLIGHT
TZNAME:CDT
DTSTART:20230312T020000
TZOFFSETFROM:-0600
TZOFFSETTO:-0500
RDATE:20240310T020000
END:DAYLIGHT
END:VTIMEZONE
BEGIN:VEVENT
UID:bc173c0e-10b2-4552-b56f-6b2c8ed86ba1
DTSTAMP:20260422T090346Z
DESCRIPTION:All Nebraska Statewide Arboretum members are invited to shop fo
 r plants at this special members only plant sale. And don't forget to use 
 your 15% off members discount!
DTSTART;TZID=America/Chicago:20230504T160000
DTEND;TZID=America/Chicago:20230504T190000
LOCATION:NSA Greenhouse (UNL East Campus)\, 2150 N. 38th Street \, Lincoln\
 , NE 68503 US
SUMMARY:Members Only Plant Sale
END:VEVENT
END:VCALENDAR
