BEGIN:VCALENDAR
VERSION:2.0
PRODID:-//plantnebraska.org//NONSGML kigkonsult.se iCalcreator 2.30.10//
CALSCALE:GREGORIAN
METHOD:PUBLISH
UID:b67a1b44-04e4-404e-99a8-a3fa488e2128
X-WR-CALDESC:This event has been moved to Tuesday\, September 27th due to t
 he excessive heat forecast for Tuesday\, September 20th. \n\nJoin us on a 
 garden walk to see Lincoln area gardens in their fall glory! These gardens
  participated in the Bloom Box program or are members of the My Garden aff
 iliate program. Maps will be provided so you can visit the gardens at your
  own pace. $10 per car for nonmembers\, $5 per car for members.
X-WR-RELCALID:4fc8498e8696fea8b44885aee9a30953
X-WR-TIMEZONE:America/Chicago
BEGIN:VTIMEZONE
TZID:America/Chicago
BEGIN:STANDARD
TZNAME:CST
DTSTART:20211107T020000
TZOFFSETFROM:-0500
TZOFFSETTO:-0600
RDATE:20221106T020000
RDATE:20231105T020000
END:STANDARD
BEGIN:DAYLIGHT
TZNAME:CDT
DTSTART:20220313T020000
TZOFFSETFROM:-0600
TZOFFSETTO:-0500
RDATE:20230312T020000
RDATE:20240310T020000
END:DAYLIGHT
END:VTIMEZONE
BEGIN:VEVENT
UID:dde0e21f-e76a-42d7-8c9c-43fa8561619a
DTSTAMP:20260422T120459Z
DESCRIPTION:This event has been moved to Tuesday\, September 27th due to th
 e excessive heat forecast for Tuesday\, September 20th. \n\nJoin us on a g
 arden walk to see Lincoln area gardens in their fall glory! These gardens 
 participated in the Bloom Box program or are members of the My Garden affi
 liate program. Maps will be provided so you can visit the gardens at your 
 own pace. $10 per car for nonmembers\, $5 per car for members.
DTSTART;TZID=America/Chicago:20220927T170000
DTEND;TZID=America/Chicago:20220927T193000
LOCATION:https://app.donorview.com/5Ky3X
SUMMARY:Lincoln Garden Walk
END:VEVENT
END:VCALENDAR
