BEGIN:VCALENDAR
VERSION:2.0
PRODID:-//plantnebraska.org//NONSGML kigkonsult.se iCalcreator 2.30.10//
CALSCALE:GREGORIAN
METHOD:PUBLISH
UID:e5256c69-2ae2-4a85-8b91-28f33d9d7824
X-WR-CALDESC:Join us on a garden walk to see Omaha area gardens in their fa
 ll glory! These gardens participated in the Bloom Box program or are membe
 rs of the My Garden affiliate program. Maps will be provided so you can vi
 sit the gardens at your own pace. $10 per car for nonmembers\, $5 per car 
 for member.
X-WR-RELCALID:cb065f6c44d69fe528b2739200f94a67
X-WR-TIMEZONE:America/Chicago
BEGIN:VTIMEZONE
TZID:America/Chicago
BEGIN:STANDARD
TZNAME:CST
DTSTART:20211107T020000
TZOFFSETFROM:-0500
TZOFFSETTO:-0600
RDATE:20221106T020000
RDATE:20231105T020000
END:STANDARD
BEGIN:DAYLIGHT
TZNAME:CDT
DTSTART:20220313T020000
TZOFFSETFROM:-0600
TZOFFSETTO:-0500
RDATE:20230312T020000
RDATE:20240310T020000
END:DAYLIGHT
END:VTIMEZONE
BEGIN:VEVENT
UID:4bd2c0c0-beae-401f-b359-17336427b817
DTSTAMP:20260422T122031Z
DESCRIPTION:Join us on a garden walk to see Omaha area gardens in their fal
 l glory! These gardens participated in the Bloom Box program or are member
 s of the My Garden affiliate program. Maps will be provided so you can vis
 it the gardens at your own pace. $10 per car for nonmembers\, $5 per car f
 or member.
DTSTART;TZID=America/Chicago:20220913T170000
DTEND;TZID=America/Chicago:20220913T193000
LOCATION:https://app.donorview.com/JDy5b
SUMMARY:Omaha Garden Walk
END:VEVENT
END:VCALENDAR
