BEGIN:VCALENDAR
VERSION:2.0
PRODID:-//plantnebraska.org//NONSGML kigkonsult.se iCalcreator 2.30.10//
CALSCALE:GREGORIAN
METHOD:PUBLISH
UID:d92771d0-9a65-4948-9df5-c260fa261893
X-WR-CALDESC:Attention\, Omahans -- NSA is bringing plants to you! Join us 
 for our spring plant sale at the Douglas-Sarpy Extension Office on Saturda
 y\, May 11\, from 9 a.m. to 12 noon. NSA members get a 15% discount on all
  purchases!
X-WR-RELCALID:02c41085e0a69d223a19083041d184bb
X-WR-TIMEZONE:America/Chicago
BEGIN:VTIMEZONE
TZID:America/Chicago
BEGIN:STANDARD
TZNAME:CST
DTSTART:20231105T020000
TZOFFSETFROM:-0500
TZOFFSETTO:-0600
RDATE:20241103T020000
RDATE:20251102T020000
END:STANDARD
BEGIN:DAYLIGHT
TZNAME:CDT
DTSTART:20240310T020000
TZOFFSETFROM:-0600
TZOFFSETTO:-0500
RDATE:20250309T020000
END:DAYLIGHT
END:VTIMEZONE
BEGIN:VEVENT
UID:b487e45e-3ceb-4e30-92a2-d47d1187aff0
DTSTAMP:20260421T085101Z
DESCRIPTION:Attention\, Omahans -- NSA is bringing plants to you! Join us f
 or our spring plant sale at the Douglas-Sarpy Extension Office on Saturday
 \, May 11\, from 9 a.m. to 12 noon. NSA members get a 15% discount on all 
 purchases!
DTSTART;TZID=America/Chicago:20240511T090000
DTEND;TZID=America/Chicago:20240511T120000
LOCATION:Douglas-Sarpy County Extension Office\, 8015 West Center Road\, Om
 aha\, NE 68124 US
SUMMARY:Plant Sale - Omaha
END:VEVENT
END:VCALENDAR
