BEGIN:VCALENDAR
VERSION:2.0
PRODID:-//plantnebraska.org//NONSGML kigkonsult.se iCalcreator 2.30.10//
CALSCALE:GREGORIAN
METHOD:PUBLISH
UID:4924e6e8-07b2-446f-8f53-4e510f41377f
X-WR-CALDESC:Geared especially toward homeowners\, this Plant Talk will dis
 pel myths and misconceptions about waterwise landscapes. NSA Sustainable L
 andscape Specialist Sarah Buckley and NSA Green Infrastructure Coordinator
  Justin Evertson will cover a variety of related topics\, including how to
  adjust your mindset and manage existing landscapes and how to change the 
 landscape via design and implementation of waterwise features such as rain
 gardens\, bioswales\, meadows and waterwise lawns.
X-WR-RELCALID:79dcc7721901ca7c87e2fb1a5c371a8b
X-WR-TIMEZONE:America/Chicago
BEGIN:VTIMEZONE
TZID:America/Chicago
BEGIN:STANDARD
TZNAME:CST
DTSTART:20231105T020000
TZOFFSETFROM:-0500
TZOFFSETTO:-0600
RDATE:20241103T020000
END:STANDARD
BEGIN:DAYLIGHT
TZNAME:CDT
DTSTART:20240310T020000
TZOFFSETFROM:-0600
TZOFFSETTO:-0500
RDATE:20250309T020000
END:DAYLIGHT
END:VTIMEZONE
BEGIN:VEVENT
UID:ad311ee2-d7a3-4f94-96fd-d70b7b23ea36
DTSTAMP:20260420T103933Z
DESCRIPTION:Geared especially toward homeowners\, this Plant Talk will disp
 el myths and misconceptions about waterwise landscapes. NSA Sustainable La
 ndscape Specialist Sarah Buckley and NSA Green Infrastructure Coordinator 
 Justin Evertson will cover a variety of related topics\, including how to 
 adjust your mindset and manage existing landscapes and how to change the l
 andscape via design and implementation of waterwise features such as raing
 ardens\, bioswales\, meadows and waterwise lawns.
DTSTART;TZID=America/Chicago:20240321T120000
DTEND;TZID=America/Chicago:20240321T130000
LOCATION:https://unl.zoom.us/meeting/register/tJ0pcu2vqzMqH9bIEQWyYjinIM8ok
 m9vCfdr#/registration
SUMMARY:Plant Talk: Waterwise Practices for the Home Landscape
END:VEVENT
END:VCALENDAR
