BEGIN:VCALENDAR
VERSION:2.0
PRODID:-//plantnebraska.org//NONSGML kigkonsult.se iCalcreator 2.30.10//
CALSCALE:GREGORIAN
METHOD:PUBLISH
UID:ec9749e4-b06a-4114-9b64-03bc73ab2bd6
X-WR-CALDESC:Come shop for Nebraska native plants\, shrubs and trees at the
  Nebraska Statewide Arboretum's Friday plant sales: September 1\, 15\, 22 
 and 20 and October 6\, 13 and 20 from 12:30 to 4:30 p.m.
X-WR-RELCALID:c847e75362ea00a1293c85a0ad90ca3a
X-WR-TIMEZONE:America/Chicago
BEGIN:VTIMEZONE
TZID:America/Chicago
BEGIN:STANDARD
TZNAME:CST
DTSTART:20221106T020000
TZOFFSETFROM:-0500
TZOFFSETTO:-0600
RDATE:20231105T020000
RDATE:20241103T020000
END:STANDARD
BEGIN:DAYLIGHT
TZNAME:CDT
DTSTART:20230312T020000
TZOFFSETFROM:-0600
TZOFFSETTO:-0500
RDATE:20240310T020000
RDATE:20250309T020000
END:DAYLIGHT
END:VTIMEZONE
BEGIN:VEVENT
UID:68c0284b-07f9-4bfa-9d5c-04e4c499d4fa
DTSTAMP:20260420T065349Z
DESCRIPTION:Come shop for Nebraska native plants\, shrubs and trees at the 
 Nebraska Statewide Arboretum's Friday plant sales: September 1\, 15\, 22 a
 nd 20 and October 6\, 13 and 20 from 12:30 to 4:30 p.m.
DTSTART;TZID=America/Chicago:20230922T123000
DTEND;TZID=America/Chicago:20230922T163000
LOCATION:NSA Greenhouse (UNL's East Campus) \, 2150 North 38th St.\, Lincol
 n\, NE 68583 US
SUMMARY:Plant Sale
END:VEVENT
END:VCALENDAR
