BEGIN:VCALENDAR
VERSION:2.0
PRODID:-//plantnebraska.org//NONSGML kigkonsult.se iCalcreator 2.30.10//
CALSCALE:GREGORIAN
METHOD:PUBLISH
UID:4acf938d-2d8c-470f-81ad-21e8815f3427
X-WR-CALDESC:If we can't BE in the garden\, we can at least TALK about bein
 g outdoors\, right? Join us at 12 noon on Zoom on January 26 for a FREE ho
 ur-long 'Plant Talk' with Nebraska State Forester John Erixson. John will 
 bring us up to speed on the state of Nebraska's forests and what the futur
 e looks like\, particularly in the aftermath of last summer's fires. \n\nT
 his Plant Talk on Zoom is free\, but registration is required. Click the l
 ink below.
X-WR-RELCALID:b6d613505b374dfde52ef8ccf35b709a
X-WR-TIMEZONE:America/Chicago
BEGIN:VTIMEZONE
TZID:America/Chicago
BEGIN:STANDARD
TZNAME:CST
DTSTART:20221106T020000
TZOFFSETFROM:-0500
TZOFFSETTO:-0600
RDATE:20231105T020000
END:STANDARD
BEGIN:DAYLIGHT
TZNAME:CDT
DTSTART:20220313T020000
TZOFFSETFROM:-0600
TZOFFSETTO:-0500
RDATE:20230312T020000
RDATE:20240310T020000
END:DAYLIGHT
END:VTIMEZONE
BEGIN:VEVENT
UID:82ec6941-f66a-4171-b206-13baeb8ff225
DTSTAMP:20260420T125149Z
DESCRIPTION:If we can't BE in the garden\, we can at least TALK about being
  outdoors\, right? Join us at 12 noon on Zoom on January 26 for a FREE hou
 r-long 'Plant Talk' with Nebraska State Forester John Erixson. John will b
 ring us up to speed on the state of Nebraska's forests and what the future
  looks like\, particularly in the aftermath of last summer's fires. \n\nTh
 is Plant Talk on Zoom is free\, but registration is required. Click the li
 nk below.
DTSTART;TZID=America/Chicago:20230126T120000
DTEND;TZID=America/Chicago:20230126T130000
LOCATION:https://unl.zoom.us/meeting/register/tJctc-CrpjgsHdPi5JGB4wC03BdKm
 t9vz1k2
SUMMARY:Plant Talk: The State of Nebraska's Forests
END:VEVENT
END:VCALENDAR
