BEGIN:VCALENDAR
VERSION:2.0
PRODID:-//plantnebraska.org//NONSGML kigkonsult.se iCalcreator 2.30.10//
CALSCALE:GREGORIAN
METHOD:PUBLISH
UID:aec8f857-86de-4e39-8d18-555d79405290
X-WR-CALDESC:Join us for Plants & Pints: Sponsored by the Dorothy & Joseph 
 Young Family -- an evening of conversation and connection at The Barred Ow
 l rooftop bar in the Scarlet Hotel. We'll have a cash bar and hors d'oeuvr
 es to enjoy\, along with featured speakers Heather & Brian Byers (owners o
 f Great Plains Nursery) and Amy & Jeff Grewe (owners of Arbor Aesthetics).
  \n\nTickets: $20 for NSA members\; $25 for non-members. Click the link be
 low to register. \n\n(age 21 and older\, please)
X-WR-RELCALID:1046a269bee27b104a39b87b4015b916
X-WR-TIMEZONE:America/Chicago
BEGIN:VTIMEZONE
TZID:America/Chicago
BEGIN:STANDARD
TZNAME:CST
DTSTART:20211107T020000
TZOFFSETFROM:-0500
TZOFFSETTO:-0600
RDATE:20221106T020000
RDATE:20231105T020000
END:STANDARD
BEGIN:DAYLIGHT
TZNAME:CDT
DTSTART:20220313T020000
TZOFFSETFROM:-0600
TZOFFSETTO:-0500
RDATE:20230312T020000
RDATE:20240310T020000
END:DAYLIGHT
END:VTIMEZONE
BEGIN:VEVENT
UID:1ec06003-fde2-4d76-99e9-263fd32b236c
DTSTAMP:20260424T133152Z
DESCRIPTION:Join us for Plants & Pints: Sponsored by the Dorothy & Joseph Y
 oung Family -- an evening of conversation and connection at The Barred Owl
  rooftop bar in the Scarlet Hotel. We'll have a cash bar and hors d'oeuvre
 s to enjoy\, along with featured speakers Heather & Brian Byers (owners of
  Great Plains Nursery) and Amy & Jeff Grewe (owners of Arbor Aesthetics). 
 \n\nTickets: $20 for NSA members\; $25 for non-members. Click the link bel
 ow to register. \n\n(age 21 and older\, please)
DTSTART;TZID=America/Chicago:20221025T190000
DTEND;TZID=America/Chicago:20221025T210000
LOCATION:The Barred Owl Rooftop Bar at the Scarlet Hotel (6th floor)\, 2101
  Transformation Drive \, Lincoln \, NE 68508 US
SUMMARY:Plants & Pints
END:VEVENT
END:VCALENDAR
